BEGIN:VCALENDAR
VERSION:2.0
PRODID:-//NWUCA - ECPv6.15.17.1//NONSGML v1.0//EN
CALSCALE:GREGORIAN
METHOD:PUBLISH
X-WR-CALNAME:NWUCA
X-ORIGINAL-URL:https://nwuca.com
X-WR-CALDESC:Events for NWUCA
REFRESH-INTERVAL;VALUE=DURATION:PT1H
X-Robots-Tag:noindex
X-PUBLISHED-TTL:PT1H
BEGIN:VTIMEZONE
TZID:UTC
BEGIN:STANDARD
TZOFFSETFROM:+0000
TZOFFSETTO:+0000
TZNAME:UTC
DTSTART:20210101T000000
END:STANDARD
END:VTIMEZONE
BEGIN:VEVENT
DTSTART;TZID=UTC:20221213T173000
DTEND;TZID=UTC:20221213T203000
DTSTAMP:20260421T131633
CREATED:20221123T181455Z
LAST-MODIFIED:20221123T181607Z
UID:10000022-1670952600-1670963400@nwuca.com
SUMMARY:General Meeting
DESCRIPTION:We will spend the evening recognizing NWUCA President Ryan Mcdonald as he completes his 2-year term as President.  We also will recognize the safety award winners\, introduce the new executive board and give committee reports from the various NWUCA Committees. \nRich Angstrom\, NWUCA’s lobbyist\, will also give an update on the election cycle and looking forward to the upcoming legislative session.
URL:https://nwuca.com/calendar/general-meeting/
LOCATION:Hilton Garden Inn\, 12566 SE 93rd Ave.\, Clackamas\, 97015\, United States
ATTACH;FMTTYPE=image/png:https://nwuca.com/wp-content/uploads/2022/05/NWUCA-Logo-2x.png
ORGANIZER;CN="NWUCA":MAILTO:jenny@nwuca.com
END:VEVENT
END:VCALENDAR