BEGIN:VCALENDAR
VERSION:2.0
PRODID:-//NWUCA - ECPv6.15.17.1//NONSGML v1.0//EN
CALSCALE:GREGORIAN
METHOD:PUBLISH
X-WR-CALNAME:NWUCA
X-ORIGINAL-URL:https://nwuca.com
X-WR-CALDESC:Events for NWUCA
REFRESH-INTERVAL;VALUE=DURATION:PT1H
X-Robots-Tag:noindex
X-PUBLISHED-TTL:PT1H
BEGIN:VTIMEZONE
TZID:UTC
BEGIN:STANDARD
TZOFFSETFROM:+0000
TZOFFSETTO:+0000
TZNAME:UTC
DTSTART:20230101T000000
END:STANDARD
END:VTIMEZONE
BEGIN:VEVENT
DTSTART;VALUE=DATE:20240601
DTEND;VALUE=DATE:20240603
DTSTAMP:20260421T112149
CREATED:20221228T194635Z
LAST-MODIFIED:20240103T220721Z
UID:10000025-1717200000-1717372799@nwuca.com
SUMMARY:2024 Willamette Valley Dozer Day
DESCRIPTION:
URL:https://nwuca.com/calendar/2023-willamette-valley-dozer-day/
LOCATION:Lane County Events Center\, 796 W 13th Ave\, Eugene\, OR\, 97402\, United States
ATTACH;FMTTYPE=image/png:https://nwuca.com/wp-content/uploads/2022/12/wkdLogo.png
ORGANIZER;CN="NWUCA":MAILTO:jenny@nwuca.com
END:VEVENT
BEGIN:VEVENT
DTSTART;TZID=UTC:20240605T113000
DTEND;TZID=UTC:20240605T130000
DTSTAMP:20260421T112149
CREATED:20240103T223619Z
LAST-MODIFIED:20240103T223619Z
UID:10000034-1717587000-1717592400@nwuca.com
SUMMARY:NWUCA Board Meeting
DESCRIPTION:
URL:https://nwuca.com/calendar/nwuca-board-meeting-6/
LOCATION:Bumpers Bar & Grill\, 21935 NE Halsey St #100\, Fairview\, 97024\, United States
ATTACH;FMTTYPE=image/jpeg:https://nwuca.com/wp-content/uploads/2024/01/NWUCA-Logo.jpg
ORGANIZER;CN="NWUCA":MAILTO:jenny@nwuca.com
END:VEVENT
END:VCALENDAR