BEGIN:VCALENDAR
VERSION:2.0
PRODID:-//NWUCA - ECPv6.15.17.1//NONSGML v1.0//EN
CALSCALE:GREGORIAN
METHOD:PUBLISH
X-ORIGINAL-URL:https://nwuca.com
X-WR-CALDESC:Events for NWUCA
REFRESH-INTERVAL;VALUE=DURATION:PT1H
X-Robots-Tag:noindex
X-PUBLISHED-TTL:PT1H
BEGIN:VTIMEZONE
TZID:UTC
BEGIN:STANDARD
TZOFFSETFROM:+0000
TZOFFSETTO:+0000
TZNAME:UTC
DTSTART:20240101T000000
END:STANDARD
END:VTIMEZONE
BEGIN:VEVENT
DTSTART;TZID=UTC:20250205T113000
DTEND;TZID=UTC:20250205T130000
DTSTAMP:20260421T113042
CREATED:20250129T145955Z
LAST-MODIFIED:20250129T145955Z
UID:10000046-1738755000-1738760400@nwuca.com
SUMMARY:NWUCA Board Meeting
DESCRIPTION:
URL:https://nwuca.com/calendar/nwuca-board-meeting-13/
LOCATION:Bumpers Bar & Grill\, 21935 NE Halsey St #100\, Fairview\, 97024\, United States
ATTACH;FMTTYPE=image/jpeg:https://nwuca.com/wp-content/uploads/2024/01/NWUCA-Logo.jpg
ORGANIZER;CN="NWUCA":MAILTO:jenny@nwuca.com
END:VEVENT
BEGIN:VEVENT
DTSTART;TZID=UTC:20250218T173000
DTEND;TZID=UTC:20250218T200000
DTSTAMP:20260421T113042
CREATED:20250129T150450Z
LAST-MODIFIED:20250214T204121Z
UID:10000057-1739899800-1739908800@nwuca.com
SUMMARY:General Meeting 2/18
DESCRIPTION:Please join us for our first general meeting of 2025! This is a great time to bring a prospective member….their dinner is on NWUCA! \nOn December 18\, 2024\, Gov. Tina Kotek put out an Executive Order regarding PLAs. This action will greatly impact our entire industry. Oregon Representative Christine Drazan\, NWUCA Lobbyist Rich Angstrom and AGC’s Kirsten Adams will lead a panel discussion informing and learning from the attendees how this will impact your company. This is an important meeting for all companies doing business in Oregon to attend. \nVendor tables will be available for free to any NWUCA. \nPre-pay to avoid the line at check-in!
URL:https://nwuca.com/calendar/general-meeting-5/
LOCATION:Hilton Garden Inn\, 12566 SE 93rd Ave.\, Clackamas\, 97015\, United States
ATTACH;FMTTYPE=image/jpeg:https://nwuca.com/wp-content/uploads/2025/01/general-meeting.jpg
ORGANIZER;CN="NWUCA":MAILTO:jenny@nwuca.com
END:VEVENT
END:VCALENDAR