BEGIN:VCALENDAR
VERSION:2.0
PRODID:-//NWUCA - ECPv6.15.17.1//NONSGML v1.0//EN
CALSCALE:GREGORIAN
METHOD:PUBLISH
X-ORIGINAL-URL:https://nwuca.com
X-WR-CALDESC:Events for NWUCA
REFRESH-INTERVAL;VALUE=DURATION:PT1H
X-Robots-Tag:noindex
X-PUBLISHED-TTL:PT1H
BEGIN:VTIMEZONE
TZID:UTC
BEGIN:STANDARD
TZOFFSETFROM:+0000
TZOFFSETTO:+0000
TZNAME:UTC
DTSTART:20250101T000000
END:STANDARD
END:VTIMEZONE
BEGIN:VEVENT
DTSTART;VALUE=DATE:20260421
DTEND;VALUE=DATE:20260422
DTSTAMP:20260419T181006
CREATED:20260107T205809Z
LAST-MODIFIED:20260107T205809Z
UID:10000087-1776729600-1776815999@nwuca.com
SUMMARY:General Meeting - Safety Day - NW College of Construction
DESCRIPTION:
URL:https://nwuca.com/calendar/general-meeting-safety-day-nw-college-of-construction/
ATTACH;FMTTYPE=image/png:https://nwuca.com/wp-content/uploads/2022/05/NWUCA-Logo-2x.png
ORGANIZER;CN="NWUCA":MAILTO:jenny@nwuca.com
END:VEVENT
END:VCALENDAR