BEGIN:VCALENDAR
VERSION:2.0
PRODID:-//NWUCA - ECPv6.15.17.1//NONSGML v1.0//EN
CALSCALE:GREGORIAN
METHOD:PUBLISH
X-ORIGINAL-URL:https://nwuca.com
X-WR-CALDESC:Events for NWUCA
REFRESH-INTERVAL;VALUE=DURATION:PT1H
X-Robots-Tag:noindex
X-PUBLISHED-TTL:PT1H
BEGIN:VTIMEZONE
TZID:UTC
BEGIN:STANDARD
TZOFFSETFROM:+0000
TZOFFSETTO:+0000
TZNAME:UTC
DTSTART:20250101T000000
END:STANDARD
END:VTIMEZONE
BEGIN:VEVENT
DTSTART;VALUE=DATE:20260501
DTEND;VALUE=DATE:20260502
DTSTAMP:20260424T210649
CREATED:20260107T205932Z
LAST-MODIFIED:20260107T205943Z
UID:10000088-1777593600-1777679999@nwuca.com
SUMMARY:2026 NWUCA Career Day
DESCRIPTION:BUILD A CAREER IN CONSTRUCTION! \nConstruction careers in today’s market are all about high-end\, high-stakes\, huge earning potential and the opportunity to travel the world. \nThis event is organized to introduce high school students to exciting opportunities in our industry. Don’t miss out!
URL:https://nwuca.com/calendar/2026-nwuca-career-fair/
LOCATION:Northwest College of Construction\, 8111 NE Holman St.\, Portland\, OR\, 97218\, United States
END:VEVENT
END:VCALENDAR